BEGIN:VCALENDAR
VERSION:2.0
PRODID:-//Freundeskreis Sammlung de Weryha e.V. - ECPv6.15.20//NONSGML v1.0//EN
CALSCALE:GREGORIAN
METHOD:PUBLISH
X-ORIGINAL-URL:http://info.freunde-de-weryha.de
X-WR-CALDESC:Veranstaltungen für Freundeskreis Sammlung de Weryha e.V.
REFRESH-INTERVAL;VALUE=DURATION:PT1H
X-Robots-Tag:noindex
X-PUBLISHED-TTL:PT1H
BEGIN:VTIMEZONE
TZID:Europe/Berlin
BEGIN:DAYLIGHT
TZOFFSETFROM:+0100
TZOFFSETTO:+0200
TZNAME:CEST
DTSTART:20240331T010000
END:DAYLIGHT
BEGIN:STANDARD
TZOFFSETFROM:+0200
TZOFFSETTO:+0100
TZNAME:CET
DTSTART:20241027T010000
END:STANDARD
BEGIN:DAYLIGHT
TZOFFSETFROM:+0100
TZOFFSETTO:+0200
TZNAME:CEST
DTSTART:20250330T010000
END:DAYLIGHT
BEGIN:STANDARD
TZOFFSETFROM:+0200
TZOFFSETTO:+0100
TZNAME:CET
DTSTART:20251026T010000
END:STANDARD
BEGIN:DAYLIGHT
TZOFFSETFROM:+0100
TZOFFSETTO:+0200
TZNAME:CEST
DTSTART:20260329T010000
END:DAYLIGHT
BEGIN:STANDARD
TZOFFSETFROM:+0200
TZOFFSETTO:+0100
TZNAME:CET
DTSTART:20261025T010000
END:STANDARD
BEGIN:DAYLIGHT
TZOFFSETFROM:+0100
TZOFFSETTO:+0200
TZNAME:CEST
DTSTART:20270328T010000
END:DAYLIGHT
BEGIN:STANDARD
TZOFFSETFROM:+0200
TZOFFSETTO:+0100
TZNAME:CET
DTSTART:20271031T010000
END:STANDARD
END:VTIMEZONE
BEGIN:VEVENT
DTSTART;TZID=Europe/Berlin:20260322T170000
DTEND;TZID=Europe/Berlin:20260322T190000
DTSTAMP:20260421T114058
CREATED:20260216T174532Z
LAST-MODIFIED:20260225T130538Z
UID:476-1774198800-1774206000@info.freunde-de-weryha.de
SUMMARY:Buchvorstellung - JAN DE WERYHA -MONOGRAPHIE - 22. März um 17.00 Uhr im KulturA
DESCRIPTION:Buchvorstellung – JAN DE WERYHA -MONOGRAPHIE \n  \nDer Freundeskreis Sammlung de Weryha lädt am 22. März um 17.00 Uhr ins KulturA\, Otto-Grot-Str. 90\, Hamburg-Neuallermöhe zur Buchvorstellung „Jan de Weryha: The Monograph“ ein. Durch die Veranstaltung führt Hartwig Zillmer. Die Gäste werden vom Björn Warmer\, Bürgermeister der Stadt Reinbek\, und Ulf von Kremski\, stellv. Bezirksamtsleiter von Hamburg-Bergedorf begrüßt. \nEinführende Worte kommen von Prof. Dr. Rainer-Maria Weiss\, Direktor des Archäologischen Museums Hamburg. Für die musikalische Begleitung sorgt Vladyslav Sendecki. \nDie Subskribenten werden gebeten\, ihre Bücher während der Veranstaltung abzuholen. Weitere Bücher können an dem Abend erworben werden. \nBitte anmelden bis 6.März bei Jan de Weryha: jan@de-weryha-art.de \n  \nWenn Sie mit öffentlichen Verkehrsmitteln kommen: S 7\, Richtung Bergedorf (ehem. S 2!) bis Bahnhof Allermöhe. Wenn Sie aus dem Bahnhof kommen\, geradeaus über den Marktplatz\, über die erste Fleetbrücke\, gleich rechts über die 2. Fleetbrücke\, dann gleich linkss am Fleet entlang. In 2oo m Entfernung sehen Sie das blau-weiße Flachgebäude von KULTUR A. 5 min. Fußweg.
URL:http://info.freunde-de-weryha.de/event/buchvorstellung-jan-de-weryha-monographie-22-maerz-um-17-00-uhr-im-kultura/
LOCATION:KULTUR A\, Otto-Grot-Str. 90\, Hamburg-Neuallermöhe\, Germany
CATEGORIES:Buchvorstellung,de Weryha,Freundeskreis Sammlung de Weryha,Jan de Weryha,KULTUR A,The Monograph
ATTACH;FMTTYPE=image/jpeg:http://info.freunde-de-weryha.de/wp-content/uploads/2026/02/buch3.jpg
END:VEVENT
BEGIN:VEVENT
DTSTART;TZID=Europe/Berlin:20250914T140000
DTEND;TZID=Europe/Berlin:20250914T180000
DTSTAMP:20260421T114058
CREATED:20250715T195110Z
LAST-MODIFIED:20250718T161503Z
UID:455-1757858400-1757872800@info.freunde-de-weryha.de
SUMMARY:SOMMERFEST 2025 - Freundeskreis Sammlung de Weryha am Sonntag\, 14.September2025 ab 14:00 - Atelier  de Weryha
DESCRIPTION:  \nDer Freundeskreis Sammlung de Weryha e.V. \nlädt auch in diesem Jahr herzlich ein zum \nSOMMERFEST 2025 am Sonntag\, 14. September von 14:00 – 18:00 Uhr  \nim Atelier des Künstlers Jan de Weryha  \nim Reinbeker Redder 81 in 21031 Hamburg Lohbrügge \n  \nDer Künstler bietet an diesem Tag Führungen durch das Atelier an. Am Nachmittag erfüllt die Ateliersräume eine musikalische Begleitung. Es gibt viele Neuigkeiten zu beklönen. Die Freude an der Begegnung führt zu vielen\, guten Gesprächen. Es soll ein entspannter\, fröhlicher Tag werden. \nNeben Getränken und Gegrilltem bieten wir Schmalzbrote und andere Köstlichkeiten sowie Kaffee und viel Kuchen an. Über ein zahlreiches Erscheinen würden wir uns sehr freuen! \nEintritt frei. Jedoch freuen wir uns über jede Spende. \n \n_______________________________ \n  \nFahrt zum Atelier Sammlung de Weryha im Reinbeker Redder 81 in Lohbrügge mit dem ÖPNV: Ab S-Bahnhof Bergedorf (Ausgang Lohbrügge) mit dem Bus 12 (Ri. Billstedt) bis Reinbeker Redder (Höhe Rudorffweg) im 10-min-Takt. Fahrzeit: ca. 17 min. Mit dem Pkw: Etwa 100 m vor (von Hamburg kommend\, links) bzw. 100 m (von Reinbek kommend\, rechts) hinter der Einfahrt zum Atelier ist die Haltestelle Rudorffweg. Dort ist die Einfahrt zum Parkplatz des Kleingartenvereins 611. Von dort zu Fuß über den Reinbeker Redder zum Atelier. Bitte Vorsicht bei der Überquerung der Straße. \n  \n  \n________________________________ \nFreundeskreis Sammlung de Weryha e.V.\, Reinbeker Redder 81\, 21031 Hamburg-Lohbrügge \nVorstand: Peter Strampe\, Hartwig Zillmer\, Margarethe David; vorstand@freunde-de-weryha.de \nVereinskonto: Volksbank Bergedorf: IBAN: DE76 2019 0109 0019 5046 00        Vereinsregister: VR 22998
URL:http://info.freunde-de-weryha.de/event/sommerfest-2025-freundeskreis-sammlung-de-weryha-am-sonntag-14-september2025-von-1400-atelier-de-weryha/
LOCATION:Atelier de Weryha\, Reinbeker Redder 81\, Hamburg\, 21031\, Germany
CATEGORIES:Atelier de Weryha,Atelier des Künstlers Jan de Weryha,Atelier Jan de Weryha,Freundeskreis Sammlung de Weryha,SOMMERFEST
ATTACH;FMTTYPE=image/jpeg:http://info.freunde-de-weryha.de/wp-content/uploads/2024/10/logo-neu.jpg
END:VEVENT
BEGIN:VEVENT
DTSTART;TZID=Europe/Berlin:20250629T180000
DTEND;TZID=Europe/Berlin:20250629T200000
DTSTAMP:20260421T114058
CREATED:20250505T191716Z
LAST-MODIFIED:20250505T203048Z
UID:400-1751220000-1751227200@info.freunde-de-weryha.de
SUMMARY:Geschichten mit und über ROBS – Sonntag\, 29.06.2025-18:00Uhr – Atelier Jan de Weryha
DESCRIPTION:Im Anschluss\, um 18.00 Uhr\, laden wir in das Atelier ein\, um im Freundes- und Bekanntenkreis sich an den wohl bekanntesten polnischen Karikaturisten und Cartoonisten\, Robert Szecówka – genannt ROBS – zu erinnern. Seit 1986 lebte er mit seiner Frau und der Tochter in Hamburg. Tausende Zeichnungen fertigte er zu allen möglichen Themen\, erst in schwarz-weiß\, dann zunehmend farbig. Viele Ausstellungen – darunter auch mit der Deutsch-Polnischen Gesellschaft Hamburg – erfreuten Tausende von Besucherinnen und Besuchern. Von herausragender Bedeutung jedoch waren seine zahlreichen Zeichnungen\, die er ganz individuell und zu privaten Anlässen anfertigte: Zu Geburtstagen\, Hochzeiten\, Jubiläen usw.  Wundervolle Unikate. Und genau die wollen wir uns anschauen und uns Geschichten mit und über ROBS erzählen. Er verstarb 2020. \nWir wollen ihn und sein kulturelles Erbe nicht vergessen. \nNachfragen und Anregungen bei Hartwig Zillmer\, Mobil: 0176 99 222 744 und per Mail: ha.zillmer@web.de
URL:http://info.freunde-de-weryha.de/event/geschichten-mit-und-ueber-robs-sonntag-29-06-2025-1600uhr-atelier-jan-de-weryha/
LOCATION:Atelier de Weryha\, Reinbeker Redder 81\, Hamburg\, 21031\, Germany
CATEGORIES:Geschichten mit und über ROBS,Robert Szecówka,ROBS
ATTACH;FMTTYPE=image/jpeg:http://info.freunde-de-weryha.de/wp-content/uploads/2024/10/logo-neu.jpg
END:VEVENT
BEGIN:VEVENT
DTSTART;TZID=Europe/Berlin:20250629T160000
DTEND;TZID=Europe/Berlin:20250629T180000
DTSTAMP:20260421T114058
CREATED:20250505T184048Z
LAST-MODIFIED:20250506T230203Z
UID:393-1751212800-1751220000@info.freunde-de-weryha.de
SUMMARY:KLANGVOLLE POESIE MIT GEDICHTEN VON WISŁAWA SZYMBORSKA Sonntag\, 29.06.2025-16:00Uhr - Atelier de Weryha
DESCRIPTION:KLANGVOLLE POESIE MIT GEDICHTEN VON WISŁAWA SZYMBORSKA \n  \nAm Sonntag\, 29.06.2025 um 16.00 Uhr findet im Atelier Jan de Weryha\, in Lohbrügge\, Reinbeker Redder 81\, eine Lesung mit Katarzyna Haase-Georg (polnisch) und Hartwig Zillmer (deutsch) statt\, die Gedichte von Wisława Szymborska vortragen werden. \nSie werden musikalisch vom Duo Sonarium\, Matthias Müller (Cello) und Maximilian Schötz (Klavier\, Didgeridoo und Perkussion) begleitet. \n  \nWislawa Szymborska (1923-2012)   gehört zu den bedeutendsten Lyrikerinnen ihrer Generation. Im Jahr1996 wurde sie für Ihr umfangreiches Werk mit dem Literaturnobelpreis ausgezeichnet. In ihren von Zweifel und Ironie geprägten Gedichten nimmt sie oft völlig alltägliche Dinge mit dem poetischen Blick näher ins Visier. \n  \nDas Duo Sonarium verbindet Jazz und Neue Musik zu einer ureigenen und sehr persönlichen Klangsprache. Seine improvisierten Kompositionen bringt das Duo vor allem mit Cello\, Klavier\, Didgeridoo und Percussion zum Schwingen und bietet eine Melange verschiedenster Musikkulturen. Die beiden Musiker haben sich mit den ausgewählten Texten vertraut gemacht\, sich in die Texte hineinversetzt und musikalische Zugänge zu den Texten gefunden.
URL:http://info.freunde-de-weryha.de/event/klangvolle-poesie-mit-gedichten-von-wislawa-szymborska-sonntag-29-06-2025-1600uhr-atelier-de-weryha/
LOCATION:Atelier de Weryha\, Reinbeker Redder 81\, Hamburg\, 21031\, Germany
CATEGORIES:Duo Sonarium,GEDICHTEN VON WISŁAWA SZYMBORSKA,KLANGVOLLE POESIE
ATTACH;FMTTYPE=image/jpeg:http://info.freunde-de-weryha.de/wp-content/uploads/2024/10/logo-neu.jpg
END:VEVENT
BEGIN:VEVENT
DTSTART;VALUE=DATE:20250529
DTEND;VALUE=DATE:20250610
DTSTAMP:20260421T114058
CREATED:20250510T201223Z
LAST-MODIFIED:20250510T223321Z
UID:440-1748476800-1749513599@info.freunde-de-weryha.de
SUMMARY:kulturelle landpartie - größtes selbstorganisiertes Kulturfestival Norddeutschlands\, Zwischen Himmelfahrt und Pfingsten\, vom 29.5. – 9.6.2025.
DESCRIPTION:Kulturelle Landpartie(mehr) \nkulturelle landpartie\nDer neue Reisebegleiter ist erschienen und ab sofort erhältlich direkt bei uns oder\nin vielen Buchhandlungen und Geschäften in Niedersachsen\, Hamburg und Bremen.\nMehr dazu findet ihr unter Reisebegleiter
URL:http://info.freunde-de-weryha.de/event/kulturelle-landpartie-groesstes-selbstorganisiertes-kulturfestival-norddeutschlands-zwischen-himmelfahrt-und-pfingsten-vom-29-5-9-6-2025/
CATEGORIES:kulturelle landpartie
ATTACH;FMTTYPE=image/png:http://info.freunde-de-weryha.de/wp-content/uploads/2025/05/klp-logo.png
END:VEVENT
END:VCALENDAR