BEGIN:VCALENDAR
VERSION:2.0
PRODID:-//Freundeskreis Sammlung de Weryha e.V. - ECPv6.15.20//NONSGML v1.0//EN
CALSCALE:GREGORIAN
METHOD:PUBLISH
X-WR-CALNAME:Freundeskreis Sammlung de Weryha e.V.
X-ORIGINAL-URL:http://info.freunde-de-weryha.de
X-WR-CALDESC:Veranstaltungen für Freundeskreis Sammlung de Weryha e.V.
REFRESH-INTERVAL;VALUE=DURATION:PT1H
X-Robots-Tag:noindex
X-PUBLISHED-TTL:PT1H
BEGIN:VTIMEZONE
TZID:Europe/Berlin
BEGIN:DAYLIGHT
TZOFFSETFROM:+0100
TZOFFSETTO:+0200
TZNAME:CEST
DTSTART:20240331T010000
END:DAYLIGHT
BEGIN:STANDARD
TZOFFSETFROM:+0200
TZOFFSETTO:+0100
TZNAME:CET
DTSTART:20241027T010000
END:STANDARD
BEGIN:DAYLIGHT
TZOFFSETFROM:+0100
TZOFFSETTO:+0200
TZNAME:CEST
DTSTART:20250330T010000
END:DAYLIGHT
BEGIN:STANDARD
TZOFFSETFROM:+0200
TZOFFSETTO:+0100
TZNAME:CET
DTSTART:20251026T010000
END:STANDARD
BEGIN:DAYLIGHT
TZOFFSETFROM:+0100
TZOFFSETTO:+0200
TZNAME:CEST
DTSTART:20260329T010000
END:DAYLIGHT
BEGIN:STANDARD
TZOFFSETFROM:+0200
TZOFFSETTO:+0100
TZNAME:CET
DTSTART:20261025T010000
END:STANDARD
END:VTIMEZONE
BEGIN:VEVENT
DTSTART;TZID=Europe/Berlin:20250914T140000
DTEND;TZID=Europe/Berlin:20250914T180000
DTSTAMP:20260419T233907
CREATED:20250715T195110Z
LAST-MODIFIED:20250718T161503Z
UID:455-1757858400-1757872800@info.freunde-de-weryha.de
SUMMARY:SOMMERFEST 2025 - Freundeskreis Sammlung de Weryha am Sonntag\, 14.September2025 ab 14:00 - Atelier  de Weryha
DESCRIPTION:  \nDer Freundeskreis Sammlung de Weryha e.V. \nlädt auch in diesem Jahr herzlich ein zum \nSOMMERFEST 2025 am Sonntag\, 14. September von 14:00 – 18:00 Uhr  \nim Atelier des Künstlers Jan de Weryha  \nim Reinbeker Redder 81 in 21031 Hamburg Lohbrügge \n  \nDer Künstler bietet an diesem Tag Führungen durch das Atelier an. Am Nachmittag erfüllt die Ateliersräume eine musikalische Begleitung. Es gibt viele Neuigkeiten zu beklönen. Die Freude an der Begegnung führt zu vielen\, guten Gesprächen. Es soll ein entspannter\, fröhlicher Tag werden. \nNeben Getränken und Gegrilltem bieten wir Schmalzbrote und andere Köstlichkeiten sowie Kaffee und viel Kuchen an. Über ein zahlreiches Erscheinen würden wir uns sehr freuen! \nEintritt frei. Jedoch freuen wir uns über jede Spende. \n \n_______________________________ \n  \nFahrt zum Atelier Sammlung de Weryha im Reinbeker Redder 81 in Lohbrügge mit dem ÖPNV: Ab S-Bahnhof Bergedorf (Ausgang Lohbrügge) mit dem Bus 12 (Ri. Billstedt) bis Reinbeker Redder (Höhe Rudorffweg) im 10-min-Takt. Fahrzeit: ca. 17 min. Mit dem Pkw: Etwa 100 m vor (von Hamburg kommend\, links) bzw. 100 m (von Reinbek kommend\, rechts) hinter der Einfahrt zum Atelier ist die Haltestelle Rudorffweg. Dort ist die Einfahrt zum Parkplatz des Kleingartenvereins 611. Von dort zu Fuß über den Reinbeker Redder zum Atelier. Bitte Vorsicht bei der Überquerung der Straße. \n  \n  \n________________________________ \nFreundeskreis Sammlung de Weryha e.V.\, Reinbeker Redder 81\, 21031 Hamburg-Lohbrügge \nVorstand: Peter Strampe\, Hartwig Zillmer\, Margarethe David; vorstand@freunde-de-weryha.de \nVereinskonto: Volksbank Bergedorf: IBAN: DE76 2019 0109 0019 5046 00        Vereinsregister: VR 22998
URL:http://info.freunde-de-weryha.de/event/sommerfest-2025-freundeskreis-sammlung-de-weryha-am-sonntag-14-september2025-von-1400-atelier-de-weryha/
LOCATION:Atelier de Weryha\, Reinbeker Redder 81\, Hamburg\, 21031\, Germany
CATEGORIES:Atelier de Weryha,Atelier des Künstlers Jan de Weryha,Atelier Jan de Weryha,Freundeskreis Sammlung de Weryha,SOMMERFEST
ATTACH;FMTTYPE=image/jpeg:http://info.freunde-de-weryha.de/wp-content/uploads/2024/10/logo-neu.jpg
END:VEVENT
END:VCALENDAR